BEGIN:VCALENDAR
VERSION:2.0
PRODID:-//pretix//pretix.eu//
BEGIN:VTIMEZONE
TZID:Europe/Vienna
BEGIN:STANDARD
DTSTART:20001029T040000
RRULE:FREQ=YEARLY;BYDAY=-1SU;BYMONTH=10
TZNAME:CET
TZOFFSETFROM:+0200
TZOFFSETTO:+0100
END:STANDARD
BEGIN:DAYLIGHT
DTSTART:20000326T030000
RRULE:FREQ=YEARLY;BYDAY=-1SU;BYMONTH=3
TZNAME:CEST
TZOFFSETFROM:+0100
TZOFFSETTO:+0200
END:DAYLIGHT
END:VTIMEZONE
BEGIN:VEVENT
UID:pretix-ech-uig15-0@event.ech-vienna.at
DTSTART;TZID=Europe/Vienna:20260616T180000
DTEND;TZID=Europe/Vienna:20260616T200000
DESCRIPTION:Tickets: https://event.ech-vienna.at/uig15/\nEinlass: 16.06.202
 6 17:30\nVeranstalter: Forschungsverbund Umwelt und Klima
DTSTAMP:20260424T145602Z
LOCATION:Naturhistorisches Museum Wien\, Maria-Theresien-Platz\, 1010 Wien
SUMMARY:Unsere Meere – Grenzen der Balance
END:VEVENT
END:VCALENDAR
